BEGIN:VCALENDAR
VERSION:2.0
PRODID:-//Explore South Orange County - ECPv6.15.18//NONSGML v1.0//EN
CALSCALE:GREGORIAN
METHOD:PUBLISH
X-WR-CALNAME:Explore South Orange County
X-ORIGINAL-URL:https://exploresouthorangecounty.com
X-WR-CALDESC:Events for Explore South Orange County
REFRESH-INTERVAL;VALUE=DURATION:PT1H
X-Robots-Tag:noindex
X-PUBLISHED-TTL:PT1H
BEGIN:VTIMEZONE
TZID:America/Los_Angeles
BEGIN:DAYLIGHT
TZOFFSETFROM:-0800
TZOFFSETTO:-0700
TZNAME:PDT
DTSTART:20230312T100000
END:DAYLIGHT
BEGIN:STANDARD
TZOFFSETFROM:-0700
TZOFFSETTO:-0800
TZNAME:PST
DTSTART:20231105T090000
END:STANDARD
BEGIN:DAYLIGHT
TZOFFSETFROM:-0800
TZOFFSETTO:-0700
TZNAME:PDT
DTSTART:20240310T100000
END:DAYLIGHT
BEGIN:STANDARD
TZOFFSETFROM:-0700
TZOFFSETTO:-0800
TZNAME:PST
DTSTART:20241103T090000
END:STANDARD
BEGIN:DAYLIGHT
TZOFFSETFROM:-0800
TZOFFSETTO:-0700
TZNAME:PDT
DTSTART:20250309T100000
END:DAYLIGHT
BEGIN:STANDARD
TZOFFSETFROM:-0700
TZOFFSETTO:-0800
TZNAME:PST
DTSTART:20251102T090000
END:STANDARD
BEGIN:DAYLIGHT
TZOFFSETFROM:-0800
TZOFFSETTO:-0700
TZNAME:PDT
DTSTART:20260308T100000
END:DAYLIGHT
BEGIN:STANDARD
TZOFFSETFROM:-0700
TZOFFSETTO:-0800
TZNAME:PST
DTSTART:20261101T090000
END:STANDARD
BEGIN:DAYLIGHT
TZOFFSETFROM:-0800
TZOFFSETTO:-0700
TZNAME:PDT
DTSTART:20270314T100000
END:DAYLIGHT
BEGIN:STANDARD
TZOFFSETFROM:-0700
TZOFFSETTO:-0800
TZNAME:PST
DTSTART:20271107T090000
END:STANDARD
END:VTIMEZONE
BEGIN:VTIMEZONE
TZID:UTC
BEGIN:STANDARD
TZOFFSETFROM:+0000
TZOFFSETTO:+0000
TZNAME:UTC
DTSTART:20230101T000000
END:STANDARD
END:VTIMEZONE
BEGIN:VEVENT
DTSTART;TZID=America/Los_Angeles:20260403T160000
DTEND;TZID=America/Los_Angeles:20260404T190000
DTSTAMP:20260425T041935
CREATED:20260309T234328Z
LAST-MODIFIED:20260309T234329Z
UID:10001302-1775232000-1775329200@exploresouthorangecounty.com
SUMMARY:Freedom LA - Japanese Music Festival in OC 🎶🇯🇵
DESCRIPTION:Experience live performances and vibrant cultural energy at the Freedom LA – Japanese Music Festival in OC\, celebrating Japanese music and community.
URL:https://exploresouthorangecounty.com/event-calendar/freedom-la-japanese-music-festival-in-oc-%f0%9f%8e%b6%f0%9f%87%af%f0%9f%87%b5/
LOCATION:OC FAIR & EVENT CENTER\, 88 Fair Drive\, Costa Mesa\, 92626\, United States
CATEGORIES:Entertainment,Fair
ATTACH;FMTTYPE=image/png:https://exploresouthorangecounty.com/wp-content/uploads/2026/02/freedom.png
END:VEVENT
BEGIN:VEVENT
DTSTART;TZID=America/Los_Angeles:20251017T160000
DTEND;TZID=America/Los_Angeles:20251017T190000
DTSTAMP:20260425T041935
CREATED:20250924T070856Z
LAST-MODIFIED:20250924T070856Z
UID:10001076-1760716800-1760727600@exploresouthorangecounty.com
SUMMARY:OC Japan Fair 2025 Fall 🇯🇵🎡
DESCRIPTION:Enjoy authentic Japanese food\, cultural performances\, anime\, cosplay\, and shopping at this vibrant fall festival in Costa Mesa.
URL:https://exploresouthorangecounty.com/event-calendar/oc-japan-fair-2025-fall-%f0%9f%87%af%f0%9f%87%b5%f0%9f%8e%a1/
LOCATION:OC FAIR & EVENT CENTER\, 88 Fair Drive\, Costa Mesa\, 92626\, United States
CATEGORIES:Entertainment,Fair
ATTACH;FMTTYPE=image/png:https://exploresouthorangecounty.com/wp-content/uploads/2025/09/japan-fair-new.png
END:VEVENT
BEGIN:VEVENT
DTSTART;TZID=America/Los_Angeles:20250718T110000
DTEND;TZID=America/Los_Angeles:20250817T230000
DTSTAMP:20260425T041935
CREATED:20250701T035315Z
LAST-MODIFIED:20250701T035316Z
UID:10000886-1752836400-1755471600@exploresouthorangecounty.com
SUMMARY:2025 OC Fair – Find Your Happy 🎡
DESCRIPTION:2025 OC Fair – Find Your Happy in Costa Mesa with thrilling rides\, live music\, delicious food\, and fun for all ages!
URL:https://exploresouthorangecounty.com/event-calendar/2025-oc-fair-find-your-happy-%f0%9f%8e%a1/
LOCATION:OC FAIR & EVENT CENTER\, 88 Fair Drive\, Costa Mesa\, 92626\, United States
CATEGORIES:Entertainment,Fair
ATTACH;FMTTYPE=image/png:https://exploresouthorangecounty.com/wp-content/uploads/2025/05/find-your-happy.png
END:VEVENT
BEGIN:VEVENT
DTSTART;TZID=America/Los_Angeles:20250406T110000
DTEND;TZID=America/Los_Angeles:20250406T190000
DTSTAMP:20260425T041935
CREATED:20250210T061345Z
LAST-MODIFIED:20250210T061346Z
UID:10000315-1743937200-1743966000@exploresouthorangecounty.com
SUMMARY:OC Japan Fair 2025 🎡🎌
DESCRIPTION:Celebrate Japanese culture at the OC Japan Fair 2025 in Costa Mesa! Enjoy traditional performances\, authentic cuisine\, unique crafts\, and more in this exciting cultural experience.
URL:https://exploresouthorangecounty.com/event-calendar/oc-japan-fair-2025-%f0%9f%8e%a1%f0%9f%8e%8c/2025-04-06/
LOCATION:OC FAIR & EVENT CENTER\, 88 Fair Drive\, Costa Mesa\, 92626\, United States
CATEGORIES:Fair
ATTACH;FMTTYPE=image/png:https://exploresouthorangecounty.com/wp-content/uploads/2025/01/japan-fair-new.png
END:VEVENT
BEGIN:VEVENT
DTSTART;TZID=America/Los_Angeles:20250405T120000
DTEND;TZID=America/Los_Angeles:20250405T220000
DTSTAMP:20260425T041935
CREATED:20250210T061345Z
LAST-MODIFIED:20250210T061346Z
UID:10000314-1743854400-1743890400@exploresouthorangecounty.com
SUMMARY:OC Japan Fair 2025 🎡🎌
DESCRIPTION:Celebrate Japanese culture at the OC Japan Fair 2025 in Costa Mesa! Enjoy traditional performances\, authentic cuisine\, unique crafts\, and more in this exciting cultural experience.
URL:https://exploresouthorangecounty.com/event-calendar/oc-japan-fair-2025-%f0%9f%8e%a1%f0%9f%8e%8c/2025-04-05/
LOCATION:OC FAIR & EVENT CENTER\, 88 Fair Drive\, Costa Mesa\, 92626\, United States
CATEGORIES:Fair
ATTACH;FMTTYPE=image/png:https://exploresouthorangecounty.com/wp-content/uploads/2025/01/japan-fair-new.png
END:VEVENT
BEGIN:VEVENT
DTSTART;TZID=America/Los_Angeles:20250404T160000
DTEND;TZID=America/Los_Angeles:20250404T220000
DTSTAMP:20260425T041935
CREATED:20250210T061345Z
LAST-MODIFIED:20250210T061346Z
UID:10000313-1743782400-1743804000@exploresouthorangecounty.com
SUMMARY:OC Japan Fair 2025 🎡🎌
DESCRIPTION:Celebrate Japanese culture at the OC Japan Fair 2025 in Costa Mesa! Enjoy traditional performances\, authentic cuisine\, unique crafts\, and more in this exciting cultural experience.
URL:https://exploresouthorangecounty.com/event-calendar/oc-japan-fair-2025-%f0%9f%8e%a1%f0%9f%8e%8c/2025-04-04/
LOCATION:OC FAIR & EVENT CENTER\, 88 Fair Drive\, Costa Mesa\, 92626\, United States
CATEGORIES:Fair
ATTACH;FMTTYPE=image/png:https://exploresouthorangecounty.com/wp-content/uploads/2025/01/japan-fair-new.png
END:VEVENT
BEGIN:VEVENT
DTSTART;TZID=America/Los_Angeles:20241124T103000
DTEND;TZID=America/Los_Angeles:20241124T170000
DTSTAMP:20260425T041935
CREATED:20241121T012720Z
LAST-MODIFIED:20241121T012720Z
UID:10000095-1732444200-1732467600@exploresouthorangecounty.com
SUMMARY:Swedish Christmas Fair 🕯️
DESCRIPTION:SWEDISH CHRISTMAS FAIR at Old World Huntington Beach \nCome down to Old World Village and enjoy a day of live music\, food\, and drinks while shopping for holiday gifts! \nThe Swedish Christmas Fair is SWEA OC’s main fundraising event of the year.
URL:https://exploresouthorangecounty.com/event-calendar/swedish-christmas-fair-%f0%9f%95%af%ef%b8%8f/
LOCATION:Biergarten @ Old World Village\, 7561 Center Ave. #49\, Huntington Beach\, CA\, 92647\, United States
CATEGORIES:Fair,Holiday
ATTACH;FMTTYPE=image/png:https://exploresouthorangecounty.com/wp-content/uploads/2024/11/Event-Calendar-Theme-Image-15.png
END:VEVENT
BEGIN:VEVENT
DTSTART;TZID=UTC:20241020T110000
DTEND;TZID=UTC:20241020T190000
DTSTAMP:20260425T041935
CREATED:20241007T125431Z
LAST-MODIFIED:20241013T210916Z
UID:10000057-1729422000-1729450800@exploresouthorangecounty.com
SUMMARY:OC Japan Fair🥢
DESCRIPTION:A deep dive into Japanese culture with food\, performances\, and traditional crafts. From sushi to anime\, visitors can explore and enjoy all things Japan.
URL:https://exploresouthorangecounty.com/event-calendar/oc-japan-fair%f0%9f%a5%a2/2024-10-20/
LOCATION:OC FAIR & EVENT CENTER\, 88 Fair Drive\, Costa Mesa\, 92626\, United States
CATEGORIES:Fair
ATTACH;FMTTYPE=application/pdf:https://exploresouthorangecounty.com/wp-content/uploads/2024/10/Blog-Featured-Images-Presentation-10.pdf
END:VEVENT
BEGIN:VEVENT
DTSTART;TZID=UTC:20241019T120000
DTEND;TZID=UTC:20241019T220000
DTSTAMP:20260425T041935
CREATED:20241007T125431Z
LAST-MODIFIED:20241013T210916Z
UID:10000056-1729339200-1729375200@exploresouthorangecounty.com
SUMMARY:OC Japan Fair🥢
DESCRIPTION:A deep dive into Japanese culture with food\, performances\, and traditional crafts. From sushi to anime\, visitors can explore and enjoy all things Japan.
URL:https://exploresouthorangecounty.com/event-calendar/oc-japan-fair%f0%9f%a5%a2/2024-10-19/
LOCATION:OC FAIR & EVENT CENTER\, 88 Fair Drive\, Costa Mesa\, 92626\, United States
CATEGORIES:Fair
ATTACH;FMTTYPE=application/pdf:https://exploresouthorangecounty.com/wp-content/uploads/2024/10/Blog-Featured-Images-Presentation-10.pdf
END:VEVENT
BEGIN:VEVENT
DTSTART;TZID=UTC:20241018T170000
DTEND;TZID=UTC:20241018T230000
DTSTAMP:20260425T041935
CREATED:20241007T125431Z
LAST-MODIFIED:20241013T210916Z
UID:10000055-1729270800-1729292400@exploresouthorangecounty.com
SUMMARY:OC Japan Fair🥢
DESCRIPTION:A deep dive into Japanese culture with food\, performances\, and traditional crafts. From sushi to anime\, visitors can explore and enjoy all things Japan.
URL:https://exploresouthorangecounty.com/event-calendar/oc-japan-fair%f0%9f%a5%a2/2024-10-18/
LOCATION:OC FAIR & EVENT CENTER\, 88 Fair Drive\, Costa Mesa\, 92626\, United States
CATEGORIES:Fair
ATTACH;FMTTYPE=application/pdf:https://exploresouthorangecounty.com/wp-content/uploads/2024/10/Blog-Featured-Images-Presentation-10.pdf
END:VEVENT
END:VCALENDAR