BEGIN:VCALENDAR
VERSION:2.0
PRODID:-//Explore South Orange County - ECPv6.15.18//NONSGML v1.0//EN
CALSCALE:GREGORIAN
METHOD:PUBLISH
X-WR-CALNAME:Explore South Orange County
X-ORIGINAL-URL:https://exploresouthorangecounty.com
X-WR-CALDESC:Events for Explore South Orange County
REFRESH-INTERVAL;VALUE=DURATION:PT1H
X-Robots-Tag:noindex
X-PUBLISHED-TTL:PT1H
BEGIN:VTIMEZONE
TZID:America/Los_Angeles
BEGIN:DAYLIGHT
TZOFFSETFROM:-0800
TZOFFSETTO:-0700
TZNAME:PDT
DTSTART:20240310T100000
END:DAYLIGHT
BEGIN:STANDARD
TZOFFSETFROM:-0700
TZOFFSETTO:-0800
TZNAME:PST
DTSTART:20241103T090000
END:STANDARD
BEGIN:DAYLIGHT
TZOFFSETFROM:-0800
TZOFFSETTO:-0700
TZNAME:PDT
DTSTART:20250309T100000
END:DAYLIGHT
BEGIN:STANDARD
TZOFFSETFROM:-0700
TZOFFSETTO:-0800
TZNAME:PST
DTSTART:20251102T090000
END:STANDARD
BEGIN:DAYLIGHT
TZOFFSETFROM:-0800
TZOFFSETTO:-0700
TZNAME:PDT
DTSTART:20260308T100000
END:DAYLIGHT
BEGIN:STANDARD
TZOFFSETFROM:-0700
TZOFFSETTO:-0800
TZNAME:PST
DTSTART:20261101T090000
END:STANDARD
END:VTIMEZONE
BEGIN:VEVENT
DTSTART;VALUE=DATE:20250829
DTEND;VALUE=DATE:20250904
DTSTAMP:20260425T144719
CREATED:20250829T220830Z
LAST-MODIFIED:20250829T220831Z
UID:10001075-1756436400-1756868399@exploresouthorangecounty.com
SUMMARY:National Mai Tai Day & Labor Day Weekend 🌴🇺🇸
DESCRIPTION:Sip tropical cocktails\, enjoy live entertainment\, and celebrate summer in coastal style this Labor Day weekend.
URL:https://exploresouthorangecounty.com/event-calendar/national-mai-tai-day-labor-day-weekend-%f0%9f%8c%b4%f0%9f%87%ba%f0%9f%87%b8/
LOCATION:Billy’s at The Beach\, 2751 West Coast Hwy\, Newport Beach\, 92663
CATEGORIES:Entertainment,National Holidays
ATTACH;FMTTYPE=image/png:https://exploresouthorangecounty.com/wp-content/uploads/2025/08/mai-tai.png
END:VEVENT
BEGIN:VEVENT
DTSTART;TZID=America/Los_Angeles:20250901T110000
DTEND;TZID=America/Los_Angeles:20250901T180000
DTSTAMP:20260425T144719
CREATED:20250820T074157Z
LAST-MODIFIED:20250820T074157Z
UID:10001063-1756724400-1756749600@exploresouthorangecounty.com
SUMMARY:Labor Day at Pendry 🇺🇸🌴
DESCRIPTION:Celebrate the holiday with poolside fun\, cocktails\, gourmet bites\, and live entertainment at Pendry Newport Beach.
URL:https://exploresouthorangecounty.com/event-calendar/labor-day-at-pendry-%f0%9f%87%ba%f0%9f%87%b8%f0%9f%8c%b4/
LOCATION:Pendry Newport Beach\, 690 Newport Beach Center Dr\, Newport Beach\, 92660
CATEGORIES:Entertainment,National Holidays
ATTACH;FMTTYPE=image/png:https://exploresouthorangecounty.com/wp-content/uploads/2025/08/pendry-labor.png
END:VEVENT
END:VCALENDAR