BEGIN:VCALENDAR
VERSION:2.0
PRODID:-//Explore South Orange County - ECPv6.15.18//NONSGML v1.0//EN
CALSCALE:GREGORIAN
METHOD:PUBLISH
X-ORIGINAL-URL:https://exploresouthorangecounty.com
X-WR-CALDESC:Events for Explore South Orange County
REFRESH-INTERVAL;VALUE=DURATION:PT1H
X-Robots-Tag:noindex
X-PUBLISHED-TTL:PT1H
BEGIN:VTIMEZONE
TZID:America/Los_Angeles
BEGIN:DAYLIGHT
TZOFFSETFROM:-0800
TZOFFSETTO:-0700
TZNAME:PDT
DTSTART:20230312T100000
END:DAYLIGHT
BEGIN:STANDARD
TZOFFSETFROM:-0700
TZOFFSETTO:-0800
TZNAME:PST
DTSTART:20231105T090000
END:STANDARD
BEGIN:DAYLIGHT
TZOFFSETFROM:-0800
TZOFFSETTO:-0700
TZNAME:PDT
DTSTART:20240310T100000
END:DAYLIGHT
BEGIN:STANDARD
TZOFFSETFROM:-0700
TZOFFSETTO:-0800
TZNAME:PST
DTSTART:20241103T090000
END:STANDARD
BEGIN:DAYLIGHT
TZOFFSETFROM:-0800
TZOFFSETTO:-0700
TZNAME:PDT
DTSTART:20250309T100000
END:DAYLIGHT
BEGIN:STANDARD
TZOFFSETFROM:-0700
TZOFFSETTO:-0800
TZNAME:PST
DTSTART:20251102T090000
END:STANDARD
BEGIN:DAYLIGHT
TZOFFSETFROM:-0800
TZOFFSETTO:-0700
TZNAME:PDT
DTSTART:20260308T100000
END:DAYLIGHT
BEGIN:STANDARD
TZOFFSETFROM:-0700
TZOFFSETTO:-0800
TZNAME:PST
DTSTART:20261101T090000
END:STANDARD
END:VTIMEZONE
BEGIN:VTIMEZONE
TZID:UTC
BEGIN:STANDARD
TZOFFSETFROM:+0000
TZOFFSETTO:+0000
TZNAME:UTC
DTSTART:20230101T000000
END:STANDARD
END:VTIMEZONE
BEGIN:VEVENT
DTSTART;TZID=America/Los_Angeles:20250901T110000
DTEND;TZID=America/Los_Angeles:20250901T180000
DTSTAMP:20260423T124036
CREATED:20250820T074157Z
LAST-MODIFIED:20250820T074157Z
UID:10001063-1756724400-1756749600@exploresouthorangecounty.com
SUMMARY:Labor Day at Pendry 🇺🇸🌴
DESCRIPTION:Celebrate the holiday with poolside fun\, cocktails\, gourmet bites\, and live entertainment at Pendry Newport Beach.
URL:https://exploresouthorangecounty.com/event-calendar/labor-day-at-pendry-%f0%9f%87%ba%f0%9f%87%b8%f0%9f%8c%b4/
LOCATION:Pendry Newport Beach\, 690 Newport Beach Center Dr\, Newport Beach\, 92660
CATEGORIES:Entertainment,National Holidays
ATTACH;FMTTYPE=image/png:https://exploresouthorangecounty.com/wp-content/uploads/2025/08/pendry-labor.png
END:VEVENT
BEGIN:VEVENT
DTSTART;TZID=America/Los_Angeles:20250831T110000
DTEND;TZID=America/Los_Angeles:20250831T160000
DTSTAMP:20260423T124036
CREATED:20250829T221047Z
LAST-MODIFIED:20250829T224802Z
UID:10001074-1756638000-1756656000@exploresouthorangecounty.com
SUMMARY:Labor Day Bash at the Club 🇺🇸🎉
DESCRIPTION:Enjoy live music\, food\, drinks\, and family-friendly fun while celebrating Labor Day in Tustin.
URL:https://exploresouthorangecounty.com/event-calendar/labor-day-bash-at-the-club-%f0%9f%87%ba%f0%9f%87%b8%f0%9f%8e%89/
LOCATION:Even House\, 15771 Red Hill Ave\, Suite 500\, Tustin\, 92780
CATEGORIES:Entertainment,National Holidays
ATTACH;FMTTYPE=image/png:https://exploresouthorangecounty.com/wp-content/uploads/2025/08/Event-Calendar-Theme-Photos-7.png
END:VEVENT
BEGIN:VEVENT
DTSTART;VALUE=DATE:20250829
DTEND;VALUE=DATE:20250904
DTSTAMP:20260423T124036
CREATED:20250829T220830Z
LAST-MODIFIED:20250829T220831Z
UID:10001075-1756436400-1756868399@exploresouthorangecounty.com
SUMMARY:National Mai Tai Day & Labor Day Weekend 🌴🇺🇸
DESCRIPTION:Sip tropical cocktails\, enjoy live entertainment\, and celebrate summer in coastal style this Labor Day weekend.
URL:https://exploresouthorangecounty.com/event-calendar/national-mai-tai-day-labor-day-weekend-%f0%9f%8c%b4%f0%9f%87%ba%f0%9f%87%b8/
LOCATION:Billy’s at The Beach\, 2751 West Coast Hwy\, Newport Beach\, 92663
CATEGORIES:Entertainment,National Holidays
ATTACH;FMTTYPE=image/png:https://exploresouthorangecounty.com/wp-content/uploads/2025/08/mai-tai.png
END:VEVENT
BEGIN:VEVENT
DTSTART;TZID=America/Los_Angeles:20250704T160000
DTEND;TZID=America/Los_Angeles:20250704T212000
DTSTAMP:20260423T124036
CREATED:20250701T035333Z
LAST-MODIFIED:20250701T035334Z
UID:10000983-1751644800-1751664000@exploresouthorangecounty.com
SUMMARY:Fourth of July Celebration 🇺🇸🎆
DESCRIPTION:Enjoy a festive day of live music\, carnival rides\, family activities\, and a dazzling fireworks show at the Laguna Hills Community Center & Sports Complex.
URL:https://exploresouthorangecounty.com/event-calendar/fourth-of-july-celebration-%f0%9f%87%ba%f0%9f%87%b8%f0%9f%8e%86/
LOCATION:25555\, 25555 Alicia Pkwy\, Laguna Hills\, 92653
CATEGORIES:Community,National Holidays
ATTACH;FMTTYPE=image/png:https://exploresouthorangecounty.com/wp-content/uploads/2025/06/4th.png
END:VEVENT
BEGIN:VEVENT
DTSTART;TZID=America/Los_Angeles:20250526T110000
DTEND;TZID=America/Los_Angeles:20250526T130000
DTSTAMP:20260423T124036
CREATED:20250526T090415Z
LAST-MODIFIED:20250526T090416Z
UID:10000864-1748257200-1748264400@exploresouthorangecounty.com
SUMMARY:Nuvision Memorial Day Lunch 🇺🇸🎖
DESCRIPTION:Honor local veterans with a free lunch hosted by Nuvision Credit Union in Costa Mesa. Celebrate Memorial Day with community\, gratitude\, and patriotic spirit.
URL:https://exploresouthorangecounty.com/event-calendar/nuvision-memorial-day-lunch-%f0%9f%87%ba%f0%9f%87%b8%f0%9f%8e%96/
LOCATION:Heroes Hall Museum\, 88 Fair Dr\, Costa Mesa\, 92626
CATEGORIES:National Holidays
ATTACH;FMTTYPE=image/png:https://exploresouthorangecounty.com/wp-content/uploads/2025/05/Nuvision.png
END:VEVENT
BEGIN:VEVENT
DTSTART;TZID=America/Los_Angeles:20250526T110000
DTEND;TZID=America/Los_Angeles:20250526T130000
DTSTAMP:20260423T124036
CREATED:20250526T090322Z
LAST-MODIFIED:20250526T090323Z
UID:10000862-1748257200-1748264400@exploresouthorangecounty.com
SUMMARY:Memorial Day May 26th 🇺🇸🎖
DESCRIPTION:Join the Costa Mesa community on May 26 to honor U.S. military heroes with patriotic ceremonies\, music\, and family-friendly activities. A heartfelt Orange County Memorial Day event.
URL:https://exploresouthorangecounty.com/event-calendar/memorial-day-may-26th-%f0%9f%87%ba%f0%9f%87%b8%f0%9f%8e%96/
LOCATION:Harbor Lawn Mortuary and Memorial Park\, 1625 Gisler Ave\, Costa Mesa\, 92626
CATEGORIES:National Holidays
ATTACH;FMTTYPE=image/png:https://exploresouthorangecounty.com/wp-content/uploads/2025/05/mem-day.png
END:VEVENT
BEGIN:VEVENT
DTSTART;VALUE=DATE:20241016
DTEND;VALUE=DATE:20241018
DTSTAMP:20260423T124036
CREATED:20241013T221513Z
LAST-MODIFIED:20241013T221513Z
UID:10000075-1729044000-1729130399@exploresouthorangecounty.com
SUMMARY:World Food Day 🌎
DESCRIPTION:A day to promote global awareness and action for those who suffer from hunger.
URL:https://exploresouthorangecounty.com/event-calendar/world-food-day-%f0%9f%8c%8e/
CATEGORIES:National Holidays
ATTACH;FMTTYPE=application/pdf:https://exploresouthorangecounty.com/wp-content/uploads/2024/10/Event-Calendar-Theme-Image-9.pdf
END:VEVENT
BEGIN:VEVENT
DTSTART;VALUE=DATE:20241014
DTEND;VALUE=DATE:20241016
DTSTAMP:20260423T124036
CREATED:20241013T220419Z
LAST-MODIFIED:20241013T220708Z
UID:10000074-1728871200-1728957599@exploresouthorangecounty.com
SUMMARY:National Dessert Day 🍩
DESCRIPTION:A day dedicated to indulging in sweet treats and desserts.
URL:https://exploresouthorangecounty.com/event-calendar/national-dessert-day-%f0%9f%8d%a9/
CATEGORIES:National Holidays
ATTACH;FMTTYPE=application/pdf:https://exploresouthorangecounty.com/wp-content/uploads/2024/10/Event-Calendar-Theme-Image-8.pdf
END:VEVENT
BEGIN:VEVENT
DTSTART;VALUE=DATE:20241010
DTEND;VALUE=DATE:20241012
DTSTAMP:20260423T124036
CREATED:20241010T212805Z
LAST-MODIFIED:20241105T073522Z
UID:10000067-1728525600-1728611999@exploresouthorangecounty.com
SUMMARY:World Mental Health Day 🧠 💚
DESCRIPTION:On this #WorldMentalHealthDay\, take a moment to check in with yourself and those around you. Let’s break the stigma\, support mental health\, and raise awareness together. Whether it’s talking to a friend\, practicing mindfulness\, or seeking professional help\, every step counts. \nRemember: Mental health is just as important as physical health! Take time for self-care\, and if you need help\, don’t hesitate to ask. You are not alone. \nHere are 5 simple ways to support your mental health today: \n1️⃣ Practice gratitude 🙏 \n2️⃣ Stay active 🏃‍♀️ \n3️⃣ Connect with loved ones ❤️ \n4️⃣ Get enough sleep 🛏️ \n5️⃣ Reach out for help if needed 📞
URL:https://exploresouthorangecounty.com/event-calendar/world-mental-health-day-%f0%9f%a7%a0/
CATEGORIES:Health & Wellness,National Holidays
ATTACH;FMTTYPE=application/pdf:https://exploresouthorangecounty.com/wp-content/uploads/2024/10/Event-Calendar-Theme-Image-3-1.pdf
END:VEVENT
BEGIN:VEVENT
DTSTART;VALUE=DATE:20241001
DTEND;VALUE=DATE:20241002
DTSTAMP:20260423T124036
CREATED:20241007T112114Z
LAST-MODIFIED:20241007T114739Z
UID:10000007-1727740800-1727827199@exploresouthorangecounty.com
SUMMARY:National Taco Day Now on 1st Tuesday of October 🌮
DESCRIPTION:If you’re a taco lover\, you may have noticed something different this year: National Taco Day now falls on the first Tuesday of October! Traditionally\, National Taco Day was celebrated every year on October 4th\, but today marks a change in that tradition. So why was National Taco Day moved? \nThe Power of Taco Tuesday \nTaco Tuesday is a beloved weekly tradition for many food enthusiasts across the country. Restaurants and taco joints offer special deals on tacos every Tuesday\, making it one of the most popular dining-out days of the week. Aligning National Taco Day with Taco Tuesday creates a perfect synergy for both taco lovers and restaurants. By moving the celebration to the first Tuesday of October\, fans of this Mexican dish get to enjoy the ultimate taco celebration on the day that already embraces the taco. \nMaximizing Restaurant Promotions \nFor restaurants\, moving National Taco Day to the first Tuesday of October is a smart business decision. Many establishments were already running Taco Tuesday specials\, and by shifting the date\, they can now combine these promotions with National Taco Day offers. This change helps boost foot traffic and encourages more customers to join in on the celebration without splitting focus between two separate events. Ultimately\, it’s a win-win for both taco fans and restaurants\, with more opportunities for great deals and creative taco-themed promotions. \nCreating a National Celebration Day Buzz \nAligning National Taco Day with Taco Tuesday also helps increase awareness and participation. Taco Tuesday is a social media phenomenon\, with hashtags like #TacoTuesday and #TacoLovers trending every week. Moving the national holiday to a Tuesday allows businesses and individuals to amplify their messaging and reach a wider audience. It becomes easier to market a unified celebration\, drawing attention from both local communities and national media outlets. \nWhere to Find the Best Tacos in South OC: \n1. El Campeon \n📍 319 N El Camino Real\, San Clemente\, CA 92672 \n🌟 *Specials: $1 tacos all day featuring classic street taco options like carne asada\, al pastor\, and pollo.\n(*please contact the restaurant to confirm the latest specials) \n2. La Vida Street Tacos \n📍 28715 Los Alisos Blvd\, Mission Viejo\, CA 92692 \n🌟 *Specials: 2 tacos for $4 with a choice of grilled meats\, topped with fresh salsa and guacamole.\n(*please contact the restaurant to confirm the latest specials) \n3. Taco Surf \n📍 34195 Pacific Coast Hwy\, Dana Point\, CA 92629 \n🌟 *Specials: $1.50 tacos all day\, including fish\, shrimp\, and classic carne asada tacos.\n(*please contact the restaurant to confirm the latest specials) \n4. Chronic Tacos \n📍 26741 Aliso Creek Rd\, Aliso Viejo\, CA 92656 \n🌟* Specials: Buy one taco\, get one free for National Taco Day. Choose from carne asada\, al pastor\, grilled fish\, and more.\n(*please contact the restaurant to confirm the latest specials) \n5. Maya’s Tacos \n📍 1778 Newport Blvd\, Costa Mesa\, CA 92627 \n🌟 *Specials: Buy one taco\, get one free for National Taco Day\, featuring carne asada\, al pastor\, and pollo asado.\n(*please contact the restaurant to confirm the latest specials) \n6. Puesto \n📍 8577 Irvine Center Dr\, Irvine\, CA 92618 \n🌟 *Specials: $3 tacos all day\, featuring gourmet tacos like filet mignon\, carnitas\, and mushroom truffle.\n(*please contact the restaurant to confirm the latest specials) \n7. Casa Oaxaca \n📍 219 4th St\, Santa Ana\, CA 92701 \n🌟 *Specials: $2 tacos featuring Oaxacan specialties like mole chicken and barbacoa.\n(*please contact the restaurant to confirm the latest specials) \n8. Carnitas La Piedad \n📍 15455 Jeffrey Rd\, Irvine\, CA 92618 \n🌟 *Specials: $1 tacos featuring their signature carnitas and other traditional taco fillings.\n(*please contact the restaurant to confirm the latest specials) \n9. El Jefe Baja Grill \n📍 26860 Ortega Hwy\, San Juan Capistrano\, CA 92675 \n🌟 *Specials: $1.50 tacos with options like Baja-style fish\, shrimp\, and grilled chicken.\n(*please contact the restaurant to confirm the latest specials) \n10. Taco Asylum \n📍 2937 Bristol St\, Costa Mesa\, CA 92626 \n🌟 *Specials: $2 artisan tacos including wild boar\, lamb\, and curried paneer.\n(*please contact the restaurant to confirm the latest specials)
URL:https://exploresouthorangecounty.com/event-calendar/national-taco-day-now-on-1st-tuesday-of-october-%f0%9f%8c%ae/
CATEGORIES:National Holidays
ATTACH;FMTTYPE=application/pdf:https://exploresouthorangecounty.com/wp-content/uploads/2024/10/Blog-Featured-Images-Presentation-5-2.pdf
END:VEVENT
END:VCALENDAR