BEGIN:VCALENDAR
VERSION:2.0
PRODID:-//Explore South Orange County - ECPv6.15.18//NONSGML v1.0//EN
CALSCALE:GREGORIAN
METHOD:PUBLISH
X-ORIGINAL-URL:https://exploresouthorangecounty.com
X-WR-CALDESC:Events for Explore South Orange County
REFRESH-INTERVAL;VALUE=DURATION:PT1H
X-Robots-Tag:noindex
X-PUBLISHED-TTL:PT1H
BEGIN:VTIMEZONE
TZID:America/Los_Angeles
BEGIN:DAYLIGHT
TZOFFSETFROM:-0800
TZOFFSETTO:-0700
TZNAME:PDT
DTSTART:20240310T100000
END:DAYLIGHT
BEGIN:STANDARD
TZOFFSETFROM:-0700
TZOFFSETTO:-0800
TZNAME:PST
DTSTART:20241103T090000
END:STANDARD
BEGIN:DAYLIGHT
TZOFFSETFROM:-0800
TZOFFSETTO:-0700
TZNAME:PDT
DTSTART:20250309T100000
END:DAYLIGHT
BEGIN:STANDARD
TZOFFSETFROM:-0700
TZOFFSETTO:-0800
TZNAME:PST
DTSTART:20251102T090000
END:STANDARD
BEGIN:DAYLIGHT
TZOFFSETFROM:-0800
TZOFFSETTO:-0700
TZNAME:PDT
DTSTART:20260308T100000
END:DAYLIGHT
BEGIN:STANDARD
TZOFFSETFROM:-0700
TZOFFSETTO:-0800
TZNAME:PST
DTSTART:20261101T090000
END:STANDARD
END:VTIMEZONE
BEGIN:VEVENT
DTSTART;TZID=America/Los_Angeles:20250731T180000
DTEND;TZID=America/Los_Angeles:20250731T193000
DTSTAMP:20260423T123523
CREATED:20250728T080616Z
LAST-MODIFIED:20250728T080617Z
UID:10001017-1753984800-1753990200@exploresouthorangecounty.com
SUMMARY:Maiden Wellness Mixer
DESCRIPTION:Exciting news! We are hosting a Maiden Wellness Mixer on Thursday\, 7/31 from 6-7:30pm. \nCome join us at the BeBalanced center in Woodland Hills for an excited evening of wellness\, freebies and fun. All are welcome~ We’ll have FREE drinks\, food\, wellness ear seeds\, and massages from the following folks! \n– Anti-inflammatory drink and low sugar cocktail by Kara at Dancing Heart Mobile Bar\n– Yummy balanced food by Rich at Stone Soup Project LA\n– Wellness Ear Seeds by Deborah at Woodland Hills Acupuncture Wellness Center\n– Lymphatic drainage massages by Monica Lakey \nWe’ll be hearing from and celebrating our amazing clients who have all lost weight and completed their BeBalanced journey. They’ll share their raw experiences and opinions of how they overcame their weight loss struggles and share how they’re doing now after our program! Our coaches will also be around to answer any questions! \nWe are a different kinda weight loss and wellness program so IF you’re curious and would like more info\, or just want to mingle\, grab some freebies and have a good time\, feel free to drop by and get a vibe! \n Admission: FREE (but space is limited — RSVP today!) \nhttps://www.eventbrite.com/e/maiden-wellness-mixer-tickets-1511056583919?aff=oddtdtcreator \nhttps://facebook.com/events/s/maiden-wellness-mixer/2806584136204524/
URL:https://exploresouthorangecounty.com/event-calendar/maiden-wellness-mixer/
LOCATION:BeBalanced Natural Hormone Weight Loss LA\, 21809 Ventura Blvd\, Woodland Hills\, 91364
CATEGORIES:Community,Fitness,Food + Drink,FREE Event,Health & Wellness,Networking
ATTACH;FMTTYPE=image/jpeg:https://exploresouthorangecounty.com/wp-content/uploads/2025/07/Maiden-Wellness-Mixer-Poster.jpeg
ORGANIZER;CN="BeBalanced Natural Hormone Weight Loss LA":MAILTO:woodlandhills@bebalancedcenters.com
END:VEVENT
BEGIN:VEVENT
DTSTART;TZID=America/Los_Angeles:20250607T110000
DTEND;TZID=America/Los_Angeles:20250607T140000
DTSTAMP:20260423T123523
CREATED:20250520T145420Z
LAST-MODIFIED:20250520T145420Z
UID:10000856-1749294000-1749304800@exploresouthorangecounty.com
SUMMARY:Fort Social Dodgeball Tournament
DESCRIPTION:Welcome to the Fort Social Dodgeball Tournament!\n\n\n\nGear up\, Fort Fam — it’s game time! 💥 The Fort Social Dodgeball Tournament is coming in hot with adrenaline-pumping action\, fierce rivalries\, and non-stop energy. This is your shot to dominate the court\, rep your squad\, and fight for ultimate bragging rights in the most epic showdown of the summer! \n📍 Location: Fort Fitness USA\n📅 Date: Saturday\, June 7\n🕕 Time: 11:00 AM – 2:00 PM\n💥 Cost: $100/Team \nTeam Structure: \n\nTeams can consist of 6-10 players\nMax of 6 players on the court during games!\nYou’re welcome to create fun team names and coordinate outfits for style points 🎽👟\n\nTournament Format: \n\nThe final tournament bracket and rules will be released closer to the event date once all teams are registered.\nExpect group stages and then single elimination.\nGames will be fast-paced and fun-focused — this is all about community\, energy\, and good vibes!\n\nWhether you’re here to compete\, cheer\, or just have a blast\, the Fort Social Dodgeball Tournament is the place to be. Fort Fam — it’s game time! 💥 \n\n\nUNDER 16 WITH PARENT OR LEGAL GUARDIAN\n\n\n\n\nGet ready to duck\, dive\, and dominate! Join us for the ultimate Fort Social Dodgeball showdown—bragging rights & more on the line!
URL:https://exploresouthorangecounty.com/event-calendar/fort-social-dodgeball-tournament/
LOCATION:Fort Fitness – Laguna Hills\, 25252 Mcintyre St Suite A\, Laguna Hills\, 92653
CATEGORIES:Fitness
ATTACH;FMTTYPE=image/jpeg:https://exploresouthorangecounty.com/wp-content/uploads/2025/05/https___cdn.evbuc_.com_images_1026779283_2423621269971_1_original.jpg
END:VEVENT
BEGIN:VEVENT
DTSTART;TZID=America/Los_Angeles:20250531T120000
DTEND;TZID=America/Los_Angeles:20250531T140000
DTSTAMP:20260423T123523
CREATED:20250520T145532Z
LAST-MODIFIED:20250520T145532Z
UID:10000857-1748692800-1748700000@exploresouthorangecounty.com
SUMMARY:FORT SOCIAL KICKBALL TOURNAMENT
DESCRIPTION:Welcome to the official sign-up for the Fort Social Kickball Tournament! \n🗓 Date: Friday\, May 31st\n🕛 Time: 12:00 PM\n📍 Location: Oso Viejo Park – 24932 Veterans Way\, Mission Viejo\, CA\n💰 Cost: FREE & open to all! \nGrab your crew\, lace up those sneakers\, and get ready for a fun\, friendly afternoon of kickball\, laughs\, and a little healthy competition. Whether you’re a seasoned player or just in it for the fun\, this event is for everyone in the community. \nPlease fill out this form so we can get a head count of who will be playing. Let’s kick off the summer right! 🥳
URL:https://exploresouthorangecounty.com/event-calendar/fort-social-kickball-tournament/
LOCATION:Fort Fitness – Laguna Hills\, 25252 Mcintyre St Suite A\, Laguna Hills\, 92653
CATEGORIES:Fitness
ATTACH;FMTTYPE=image/jpeg:https://exploresouthorangecounty.com/wp-content/uploads/2025/05/AF1QipNsH7yc3ixpNp-Y-gF8fiZ-CBO64O0LuA3pUYDfw1920-h480.jpg
END:VEVENT
BEGIN:VEVENT
DTSTART;TZID=America/Los_Angeles:20250130T173000
DTEND;TZID=America/Los_Angeles:20250130T190000
DTSTAMP:20260423T123523
CREATED:20250117T073512Z
LAST-MODIFIED:20250117T073512Z
UID:10000289-1738258200-1738263600@exploresouthorangecounty.com
SUMMARY:Bodybuzz Grand Opening & Ribbon Cutting Ceremony
DESCRIPTION:Feel the Buzz at Bodybuzz!\nJoin us for an exciting evening as we celebrate the grand opening of Costa Mesa’s newest fitness studio\, featuring cutting-edge Electrical Muscle Stimulation (EMS) workouts. \nWhy Attend?\n✔️ VIP Swag Bags: Arrive early and be among the first 25 guests to receive premium wellness gifts designed to enhance your fitness journey.\n✔️ Sponsored Food & Drinks: Savor delicious bites and refreshing beverages.\n✔️ Exciting Raffle Prizes: Win amazing giveaways.\n✔️ Live EMS Demos: Experience the future of fitness with hands-on demonstrations available at the event—be sure to sign up early on the day to try out an EMS suit!\n✔️ Event-Exclusive Specials: Kickstart your 2025 fitness journey with exclusive offers available only at the event. \nWho’s Invited?\nEveryone! Whether you’re a fitness enthusiast\, curious about EMS technology\, looking to make meaningful connections\, or just out for a fun night\, this event is for you! \nDon’t miss the official ribbon cutting with the Costa Mesa Chamber of Commerce\, and take the opportunity to connect with city officials\, business leaders\, fitness enthusiasts\, and members of the Newport-Mesa community. \nReserve Your Spot Today!\nAdmission is FREE—RSVP now to secure your spot! Arrive early to claim a coveted VIP swag bag—reserved for the first 25 attendees. Enjoy event-exclusive specials tailored to support your health\, vitality\, and wellness in 2025. Join us for an engaging evening of fun\, fitness\, connection\, and motivation to kickstart your wellness journey! We can’t wait to see you then! \nWebsite: www.bodybuzzfit.com
URL:https://exploresouthorangecounty.com/event-calendar/bodybuzz-grand-opening-ribbon-cutting-ceremony/
CATEGORIES:Health & Wellness
ATTACH;FMTTYPE=image/jpeg:https://exploresouthorangecounty.com/wp-content/uploads/2025/01/https___cdn.evbuc_.com_images_924188373_340686086027_1_original.jpeg
END:VEVENT
END:VCALENDAR