BEGIN:VCALENDAR
VERSION:2.0
PRODID:-//Explore South Orange County - ECPv6.15.18//NONSGML v1.0//EN
CALSCALE:GREGORIAN
METHOD:PUBLISH
X-ORIGINAL-URL:https://exploresouthorangecounty.com
X-WR-CALDESC:Events for Explore South Orange County
REFRESH-INTERVAL;VALUE=DURATION:PT1H
X-Robots-Tag:noindex
X-PUBLISHED-TTL:PT1H
BEGIN:VTIMEZONE
TZID:America/Los_Angeles
BEGIN:DAYLIGHT
TZOFFSETFROM:-0800
TZOFFSETTO:-0700
TZNAME:PDT
DTSTART:20240310T100000
END:DAYLIGHT
BEGIN:STANDARD
TZOFFSETFROM:-0700
TZOFFSETTO:-0800
TZNAME:PST
DTSTART:20241103T090000
END:STANDARD
BEGIN:DAYLIGHT
TZOFFSETFROM:-0800
TZOFFSETTO:-0700
TZNAME:PDT
DTSTART:20250309T100000
END:DAYLIGHT
BEGIN:STANDARD
TZOFFSETFROM:-0700
TZOFFSETTO:-0800
TZNAME:PST
DTSTART:20251102T090000
END:STANDARD
BEGIN:DAYLIGHT
TZOFFSETFROM:-0800
TZOFFSETTO:-0700
TZNAME:PDT
DTSTART:20260308T100000
END:DAYLIGHT
BEGIN:STANDARD
TZOFFSETFROM:-0700
TZOFFSETTO:-0800
TZNAME:PST
DTSTART:20261101T090000
END:STANDARD
END:VTIMEZONE
BEGIN:VEVENT
DTSTART;TZID=America/Los_Angeles:20251109T100000
DTEND;TZID=America/Los_Angeles:20251109T170000
DTSTAMP:20260425T085838
CREATED:20251022T234735Z
LAST-MODIFIED:20251022T234735Z
UID:10001147-1762682400-1762707600@exploresouthorangecounty.com
SUMMARY:Free Family and Pet Event: The Roborock Pawp-Up
DESCRIPTION:Roborock’s powerful robot and handheld vacuums have effortlessly tackled fur\, pawprints\, and everyday messes across the country. Now\, the brand is joining forces with Maui the Golden Pup and I’m Blue The Siberian to offer SoCal residents a free three-day experience that features unique opportunities to capture magazine-worthy memories with their pets. One lucky pup will even be crowned the first “Cover Pup” in Roborock’s Home & Hound Magazine! \nThe immersive “Pawp-Up” will feature interactive zones where pets and their owners can explore Roborock’s newest products\, enter to win big-ticket items\, and of course the “Cover Pup Studio” where dogs and their parents can audition to be the first-ever Cover Pup in Roborock’s adorable Home & Hound Magazine. \nHere’s what attendees can expect: \n\n\n\n📸️Professional pet photographer sessions where attendees will enjoy a personalized magazine-style cover shoot with their pets and compete for the title of Roborock’s first Cover Pup!\n🐶 Free local grooming from Newport Paws \n🎭 Fun performances from pets and their owners during a live talent showcase\n🤩 Celeb appearances from Maui the Golden and I’m Blue The Siberian\n🫧 Interactive zones where pets and owners can engage with Roborock’s newest products\, including the Saros Z70\, Saros 10R\, Qrevo Curv X\, F25 Ultra\, F25 RT\, Q10 PF+\, and QR 798\n🎁 Special giveaways and chances to win Roborock products such as the Saros Z70 which is valued at $2\,500
URL:https://exploresouthorangecounty.com/event-calendar/free-family-and-pet-event-the-roborock-pawp-up/2025-11-09/
LOCATION:Fashion Island\, 401 Newport Center Dr\, Newport Beach\, 92660\, United States
CATEGORIES:Arts & Crafts,Community,Family-Friendly,FREE Event,Pet-Friendly,Special Event
ATTACH;FMTTYPE=image/jpeg:https://exploresouthorangecounty.com/wp-content/uploads/2025/10/image001.jpg
ORGANIZER;CN="Roborock":MAILTO:Megan.michael@finnpartners.com
END:VEVENT
BEGIN:VEVENT
DTSTART;TZID=America/Los_Angeles:20251108T100000
DTEND;TZID=America/Los_Angeles:20251108T170000
DTSTAMP:20260425T085838
CREATED:20251022T234735Z
LAST-MODIFIED:20251022T234735Z
UID:10001146-1762596000-1762621200@exploresouthorangecounty.com
SUMMARY:Free Family and Pet Event: The Roborock Pawp-Up
DESCRIPTION:Roborock’s powerful robot and handheld vacuums have effortlessly tackled fur\, pawprints\, and everyday messes across the country. Now\, the brand is joining forces with Maui the Golden Pup and I’m Blue The Siberian to offer SoCal residents a free three-day experience that features unique opportunities to capture magazine-worthy memories with their pets. One lucky pup will even be crowned the first “Cover Pup” in Roborock’s Home & Hound Magazine! \nThe immersive “Pawp-Up” will feature interactive zones where pets and their owners can explore Roborock’s newest products\, enter to win big-ticket items\, and of course the “Cover Pup Studio” where dogs and their parents can audition to be the first-ever Cover Pup in Roborock’s adorable Home & Hound Magazine. \nHere’s what attendees can expect: \n\n\n\n📸️Professional pet photographer sessions where attendees will enjoy a personalized magazine-style cover shoot with their pets and compete for the title of Roborock’s first Cover Pup!\n🐶 Free local grooming from Newport Paws \n🎭 Fun performances from pets and their owners during a live talent showcase\n🤩 Celeb appearances from Maui the Golden and I’m Blue The Siberian\n🫧 Interactive zones where pets and owners can engage with Roborock’s newest products\, including the Saros Z70\, Saros 10R\, Qrevo Curv X\, F25 Ultra\, F25 RT\, Q10 PF+\, and QR 798\n🎁 Special giveaways and chances to win Roborock products such as the Saros Z70 which is valued at $2\,500
URL:https://exploresouthorangecounty.com/event-calendar/free-family-and-pet-event-the-roborock-pawp-up/2025-11-08/
LOCATION:Fashion Island\, 401 Newport Center Dr\, Newport Beach\, 92660\, United States
CATEGORIES:Arts & Crafts,Community,Family-Friendly,FREE Event,Pet-Friendly,Special Event
ATTACH;FMTTYPE=image/jpeg:https://exploresouthorangecounty.com/wp-content/uploads/2025/10/image001.jpg
ORGANIZER;CN="Roborock":MAILTO:Megan.michael@finnpartners.com
END:VEVENT
BEGIN:VEVENT
DTSTART;TZID=America/Los_Angeles:20251107T110000
DTEND;TZID=America/Los_Angeles:20251107T170000
DTSTAMP:20260425T085838
CREATED:20251022T234735Z
LAST-MODIFIED:20251022T234735Z
UID:10001145-1762513200-1762534800@exploresouthorangecounty.com
SUMMARY:Free Family and Pet Event: The Roborock Pawp-Up
DESCRIPTION:Roborock’s powerful robot and handheld vacuums have effortlessly tackled fur\, pawprints\, and everyday messes across the country. Now\, the brand is joining forces with Maui the Golden Pup and I’m Blue The Siberian to offer SoCal residents a free three-day experience that features unique opportunities to capture magazine-worthy memories with their pets. One lucky pup will even be crowned the first “Cover Pup” in Roborock’s Home & Hound Magazine! \nThe immersive “Pawp-Up” will feature interactive zones where pets and their owners can explore Roborock’s newest products\, enter to win big-ticket items\, and of course the “Cover Pup Studio” where dogs and their parents can audition to be the first-ever Cover Pup in Roborock’s adorable Home & Hound Magazine. \nHere’s what attendees can expect: \n\n\n\n📸️Professional pet photographer sessions where attendees will enjoy a personalized magazine-style cover shoot with their pets and compete for the title of Roborock’s first Cover Pup!\n🐶 Free local grooming from Newport Paws \n🎭 Fun performances from pets and their owners during a live talent showcase\n🤩 Celeb appearances from Maui the Golden and I’m Blue The Siberian\n🫧 Interactive zones where pets and owners can engage with Roborock’s newest products\, including the Saros Z70\, Saros 10R\, Qrevo Curv X\, F25 Ultra\, F25 RT\, Q10 PF+\, and QR 798\n🎁 Special giveaways and chances to win Roborock products such as the Saros Z70 which is valued at $2\,500
URL:https://exploresouthorangecounty.com/event-calendar/free-family-and-pet-event-the-roborock-pawp-up/2025-11-07/
LOCATION:Fashion Island\, 401 Newport Center Dr\, Newport Beach\, 92660\, United States
CATEGORIES:Arts & Crafts,Community,Family-Friendly,FREE Event,Pet-Friendly,Special Event
ATTACH;FMTTYPE=image/jpeg:https://exploresouthorangecounty.com/wp-content/uploads/2025/10/image001.jpg
ORGANIZER;CN="Roborock":MAILTO:Megan.michael@finnpartners.com
END:VEVENT
BEGIN:VEVENT
DTSTART;TZID=America/Los_Angeles:20251011T160000
DTEND;TZID=America/Los_Angeles:20251011T203000
DTSTAMP:20260425T085838
CREATED:20250918T072435Z
LAST-MODIFIED:20250918T072436Z
UID:10001108-1760198400-1760214600@exploresouthorangecounty.com
SUMMARY:Adelante Fest 2025
DESCRIPTION:JSerra Catholic High School invites the community to Adelante Fest 2025\, an inspiring evening featuring Immaculée Ilibagiza\, survivor of the Rwandan genocide and internationally acclaimed author and motivational speaker. Attendees will experience a powerful keynote address along with a full festival of activities for all ages. \nABOUT IMMACULÉE ILIBAGIZA:  Immaculée Ilibagiza survived the 1994 Rwandan genocide by hiding in a 3×4-foot bathroom for 91 days with seven other women. Despite enduring unimaginable fear and loss\, she has transformed her experience into a message of hope\, forgiveness\, and reconciliation. Her autobiography\, Left to Tell\, has sold more than 2 million copies and is in development as a major motion picture. Immaculée now travels the world inspiring others to overcome fear\, doubt\, and hate. \nTICKETS:  Tickets grant access to all festival activities\, including:\n– Live keynote by Immaculée Ilibagiza\n– Interactive photo booths\n– Bounce houses and field games\n– Face painting and more\nTickets go on sale Monday\, September 8\, 2025 at jserra.simpletix.com\n– Adults: $15\n– Children: $10
URL:https://exploresouthorangecounty.com/event-calendar/adelante-fest-2025/
LOCATION:JSerra Catholic High School\, 26351 Junipero Serra Road \, San Juan Capistrano\, 92675
CATEGORIES:Community,Festivals,Special Event
ATTACH;FMTTYPE=image/png:https://exploresouthorangecounty.com/wp-content/uploads/2025/09/Announcement-Graphic-SQUARE-for-LL-Adelante-FEST-2025-.png
ORGANIZER;CN="JSerra Catholic High School":MAILTO:info@jserra.org
END:VEVENT
BEGIN:VEVENT
DTSTART;TZID=America/Los_Angeles:20251011T080000
DTEND;TZID=America/Los_Angeles:20251011T110000
DTSTAMP:20260425T085838
CREATED:20250828T063018Z
LAST-MODIFIED:20250828T063019Z
UID:10001073-1760169600-1760180400@exploresouthorangecounty.com
SUMMARY:Walk for Independence & Health Fair 2025
DESCRIPTION:Join us for the 15th Annual Walk for Independence at TeWinkle Park in Costa Mesa! This fun\, pet-friendly community walk brings people together to celebrate health\, inclusion\, and community spirit – complete with fitness challenge stations\, music\, prizes\, and local vendors. Proceeds benefit Project Independence\, a nonprofit that has supported adults with developmental disabilities in Orange County for more than 45 years. Funds raised help provide Independent Living services\, Supported Employment opportunities\, and Day Programs that give people the tools to live more independently\, find meaningful jobs\, and thrive in the community. Walk with us and make a difference – every step helps build a brighter future!
URL:https://exploresouthorangecounty.com/event-calendar/walk-for-independence-health-fair-2025/
LOCATION:TeWinkle Park in Costa Mesa\, 970 Arlington Dr\, Costa Mesa\, 92626
CATEGORIES:Community,Fitness,Health & Wellness,Pet-Friendly
ATTACH;FMTTYPE=image/png:https://exploresouthorangecounty.com/wp-content/uploads/2025/08/PI-Squares.png
ORGANIZER;CN="Project Independence":MAILTO:dor@proindependence.org
END:VEVENT
END:VCALENDAR