BEGIN:VCALENDAR
VERSION:2.0
PRODID:-//Explore South Orange County - ECPv6.15.18//NONSGML v1.0//EN
CALSCALE:GREGORIAN
METHOD:PUBLISH
X-WR-CALNAME:Explore South Orange County
X-ORIGINAL-URL:https://exploresouthorangecounty.com
X-WR-CALDESC:Events for Explore South Orange County
REFRESH-INTERVAL;VALUE=DURATION:PT1H
X-Robots-Tag:noindex
X-PUBLISHED-TTL:PT1H
BEGIN:VTIMEZONE
TZID:America/Los_Angeles
BEGIN:DAYLIGHT
TZOFFSETFROM:-0800
TZOFFSETTO:-0700
TZNAME:PDT
DTSTART:20230312T100000
END:DAYLIGHT
BEGIN:STANDARD
TZOFFSETFROM:-0700
TZOFFSETTO:-0800
TZNAME:PST
DTSTART:20231105T090000
END:STANDARD
BEGIN:DAYLIGHT
TZOFFSETFROM:-0800
TZOFFSETTO:-0700
TZNAME:PDT
DTSTART:20240310T100000
END:DAYLIGHT
BEGIN:STANDARD
TZOFFSETFROM:-0700
TZOFFSETTO:-0800
TZNAME:PST
DTSTART:20241103T090000
END:STANDARD
BEGIN:DAYLIGHT
TZOFFSETFROM:-0800
TZOFFSETTO:-0700
TZNAME:PDT
DTSTART:20250309T100000
END:DAYLIGHT
BEGIN:STANDARD
TZOFFSETFROM:-0700
TZOFFSETTO:-0800
TZNAME:PST
DTSTART:20251102T090000
END:STANDARD
BEGIN:DAYLIGHT
TZOFFSETFROM:-0800
TZOFFSETTO:-0700
TZNAME:PDT
DTSTART:20260308T100000
END:DAYLIGHT
BEGIN:STANDARD
TZOFFSETFROM:-0700
TZOFFSETTO:-0800
TZNAME:PST
DTSTART:20261101T090000
END:STANDARD
END:VTIMEZONE
BEGIN:VEVENT
DTSTART;TZID=America/Los_Angeles:20250814T170000
DTEND;TZID=America/Los_Angeles:20250814T210000
DTSTAMP:20260423T065526
CREATED:20250805T224620Z
LAST-MODIFIED:20250805T224620Z
UID:10001032-1755190800-1755205200@exploresouthorangecounty.com
SUMMARY:Tropical Nights 🌴✨
DESCRIPTION:Experience an island-inspired evening with live music\, tropical drinks\, Polynesian dance\, and coastal flavors—all in the heart of Irvine.
URL:https://exploresouthorangecounty.com/event-calendar/tropical-nights-%f0%9f%8c%b4%e2%9c%a8/
LOCATION:Great Park Live\, 8000 Great Park Blvd\, Irvine\, CA\, 92618\, United States
CATEGORIES:Entertainment
ATTACH;FMTTYPE=image/png:https://exploresouthorangecounty.com/wp-content/uploads/2025/08/tropical-nights.png
END:VEVENT
BEGIN:VEVENT
DTSTART;TZID=America/Los_Angeles:20250809T173000
DTEND;TZID=America/Los_Angeles:20250809T230000
DTSTAMP:20260423T065526
CREATED:20250701T035351Z
LAST-MODIFIED:20250701T054350Z
UID:10000984-1754760600-1754780400@exploresouthorangecounty.com
SUMMARY:Wiz Khalifa at Great Park Live 🎤🎶
DESCRIPTION:Catch Wiz Khalifa live at Great Park Live with special guests including Dom Kennedy\, Earl Sweatshirt\, and more. A high-energy night of hip-hop under the stars.
URL:https://exploresouthorangecounty.com/event-calendar/wiz-khalifa-at-great-park-live-%f0%9f%8e%a4%f0%9f%8e%b6/
LOCATION:Great Park Live\, 8000 Great Park Blvd\, Irvine\, CA\, 92618\, United States
CATEGORIES:Concerts,Entertainment
ATTACH;FMTTYPE=image/png:https://exploresouthorangecounty.com/wp-content/uploads/2025/06/Event-Calendar-Theme-Photos-2.png
END:VEVENT
BEGIN:VEVENT
DTSTART;TZID=America/Los_Angeles:20250329T110000
DTEND;TZID=America/Los_Angeles:20250329T160000
DTSTAMP:20260423T065526
CREATED:20250325T001943Z
LAST-MODIFIED:20250325T001943Z
UID:10000598-1743246000-1743264000@exploresouthorangecounty.com
SUMMARY:Holi Festival 2025 🎨✨
DESCRIPTION:Celebrate color\, music\, and joy at Irvine’s Holi Festival with vibrant color throws and live entertainment!
URL:https://exploresouthorangecounty.com/event-calendar/holi-festival-2025-%f0%9f%8e%a8%e2%9c%a8/
LOCATION:Great Park Live\, 8000 Great Park Blvd\, Irvine\, CA\, 92618\, United States
CATEGORIES:Arts & Crafts,Entertainment,Festivals
ATTACH;FMTTYPE=image/png:https://exploresouthorangecounty.com/wp-content/uploads/2025/03/holi-fest.png
END:VEVENT
BEGIN:VEVENT
DTSTART;TZID=America/Los_Angeles:20241122T180000
DTEND;TZID=America/Los_Angeles:20241122T180000
DTSTAMP:20260423T065526
CREATED:20241010T083807Z
LAST-MODIFIED:20241105T073125Z
UID:10000065-1732298400-1732298400@exploresouthorangecounty.com
SUMMARY:Ludacris w/ Special Guests Ying Yang Twins @ Great Park Live! 🎶
DESCRIPTION:Get ready for an unforgettable night of hip-hop at Great Park Live! Grammy-winning artist Ludacris is taking the stage with special guests\, the Ying Yang Twins\, on November 22. Experience chart-topping hits and high-energy performances in the heart of Orange County.
URL:https://exploresouthorangecounty.com/event-calendar/ludacris-w-special-guests-ying-yang-twins-irvine-great-park-11-22/
LOCATION:Great Park Live\, 8000 Great Park Blvd\, Irvine\, CA\, 92618\, United States
CATEGORIES:Concerts
ATTACH;FMTTYPE=application/pdf:https://exploresouthorangecounty.com/wp-content/uploads/2024/10/Event-Calendar-Theme-Image.pdf
END:VEVENT
BEGIN:VEVENT
DTSTART;TZID=America/Los_Angeles:20241025T080000
DTEND;TZID=America/Los_Angeles:20241025T170000
DTSTAMP:20260423T065526
CREATED:20241010T091313Z
LAST-MODIFIED:20241010T091445Z
UID:10000066-1729843200-1729875600@exploresouthorangecounty.com
SUMMARY:Clay Walker w/ Special Guest Matt Stell at Great Park Live! 🎸
DESCRIPTION:Calling all country music fans! Great Park Live is bringing you an unforgettable country music event of the year! Enjoy a night of chart topping hits with multi-platinum artist Matt Stell and the legendary Clay Walker. Don’t miss out!
URL:https://exploresouthorangecounty.com/event-calendar/clay-walker-with-special-guest-matt-stell-at-great-park-live-%f0%9f%8e%b8/
LOCATION:Great Park Live\, 8000 Great Park Blvd\, Irvine\, CA\, 92618\, United States
CATEGORIES:Concerts
ATTACH;FMTTYPE=application/pdf:https://exploresouthorangecounty.com/wp-content/uploads/2024/10/Event-Calendar-Theme-Image-1.pdf
END:VEVENT
END:VCALENDAR