BEGIN:VCALENDAR
VERSION:2.0
PRODID:-//Explore South Orange County - ECPv6.15.18//NONSGML v1.0//EN
CALSCALE:GREGORIAN
METHOD:PUBLISH
X-ORIGINAL-URL:https://exploresouthorangecounty.com
X-WR-CALDESC:Events for Explore South Orange County
REFRESH-INTERVAL;VALUE=DURATION:PT1H
X-Robots-Tag:noindex
X-PUBLISHED-TTL:PT1H
BEGIN:VTIMEZONE
TZID:America/Los_Angeles
BEGIN:DAYLIGHT
TZOFFSETFROM:-0800
TZOFFSETTO:-0700
TZNAME:PDT
DTSTART:20240310T100000
END:DAYLIGHT
BEGIN:STANDARD
TZOFFSETFROM:-0700
TZOFFSETTO:-0800
TZNAME:PST
DTSTART:20241103T090000
END:STANDARD
BEGIN:DAYLIGHT
TZOFFSETFROM:-0800
TZOFFSETTO:-0700
TZNAME:PDT
DTSTART:20250309T100000
END:DAYLIGHT
BEGIN:STANDARD
TZOFFSETFROM:-0700
TZOFFSETTO:-0800
TZNAME:PST
DTSTART:20251102T090000
END:STANDARD
BEGIN:DAYLIGHT
TZOFFSETFROM:-0800
TZOFFSETTO:-0700
TZNAME:PDT
DTSTART:20260308T100000
END:DAYLIGHT
BEGIN:STANDARD
TZOFFSETFROM:-0700
TZOFFSETTO:-0800
TZNAME:PST
DTSTART:20261101T090000
END:STANDARD
END:VTIMEZONE
BEGIN:VEVENT
DTSTART;TZID=America/Los_Angeles:20250526T090000
DTEND;TZID=America/Los_Angeles:20250526T160000
DTSTAMP:20260423T200035
CREATED:20250521T183831Z
LAST-MODIFIED:20250521T184009Z
UID:10000861-1748250000-1748275200@exploresouthorangecounty.com
SUMMARY:Memorial Day Weekend Strawberry U-Pick @ South Coast Farms 🍓✨
DESCRIPTION:Family farm providing fresh\, nutritious\, pesticide-free produce for South OC 🍓🥬 \nPesticide-free\, Harvested daily!
URL:https://exploresouthorangecounty.com/event-calendar/memorial-day-weekend-strawberry-u-pick-south-coast-farms-%f0%9f%8d%93%e2%9c%a8/2025-05-26/
LOCATION:South Coast Farms\, 33201 Ortega Hwy\, San Juan Capistrano\, 92675\, United States
CATEGORIES:Community,Recreation
ATTACH;FMTTYPE=image/png:https://exploresouthorangecounty.com/wp-content/uploads/2025/05/Event-Calendar-Theme-Image-93.png
END:VEVENT
BEGIN:VEVENT
DTSTART;TZID=America/Los_Angeles:20250525T090000
DTEND;TZID=America/Los_Angeles:20250525T160000
DTSTAMP:20260423T200035
CREATED:20250521T183831Z
LAST-MODIFIED:20250521T184009Z
UID:10000860-1748163600-1748188800@exploresouthorangecounty.com
SUMMARY:Memorial Day Weekend Strawberry U-Pick @ South Coast Farms 🍓✨
DESCRIPTION:Family farm providing fresh\, nutritious\, pesticide-free produce for South OC 🍓🥬 \nPesticide-free\, Harvested daily!
URL:https://exploresouthorangecounty.com/event-calendar/memorial-day-weekend-strawberry-u-pick-south-coast-farms-%f0%9f%8d%93%e2%9c%a8/2025-05-25/
LOCATION:South Coast Farms\, 33201 Ortega Hwy\, San Juan Capistrano\, 92675\, United States
CATEGORIES:Community,Recreation
ATTACH;FMTTYPE=image/png:https://exploresouthorangecounty.com/wp-content/uploads/2025/05/Event-Calendar-Theme-Image-93.png
END:VEVENT
BEGIN:VEVENT
DTSTART;TZID=America/Los_Angeles:20250524T090000
DTEND;TZID=America/Los_Angeles:20250524T160000
DTSTAMP:20260423T200035
CREATED:20250521T183831Z
LAST-MODIFIED:20250521T184009Z
UID:10000859-1748077200-1748102400@exploresouthorangecounty.com
SUMMARY:Memorial Day Weekend Strawberry U-Pick @ South Coast Farms 🍓✨
DESCRIPTION:Family farm providing fresh\, nutritious\, pesticide-free produce for South OC 🍓🥬 \nPesticide-free\, Harvested daily!
URL:https://exploresouthorangecounty.com/event-calendar/memorial-day-weekend-strawberry-u-pick-south-coast-farms-%f0%9f%8d%93%e2%9c%a8/2025-05-24/
LOCATION:South Coast Farms\, 33201 Ortega Hwy\, San Juan Capistrano\, 92675\, United States
CATEGORIES:Community,Recreation
ATTACH;FMTTYPE=image/png:https://exploresouthorangecounty.com/wp-content/uploads/2025/05/Event-Calendar-Theme-Image-93.png
END:VEVENT
BEGIN:VEVENT
DTSTART;TZID=America/Los_Angeles:20250523T090000
DTEND;TZID=America/Los_Angeles:20250523T160000
DTSTAMP:20260423T200035
CREATED:20250521T183831Z
LAST-MODIFIED:20250521T184009Z
UID:10000858-1747990800-1748016000@exploresouthorangecounty.com
SUMMARY:Memorial Day Weekend Strawberry U-Pick @ South Coast Farms 🍓✨
DESCRIPTION:Family farm providing fresh\, nutritious\, pesticide-free produce for South OC 🍓🥬 \nPesticide-free\, Harvested daily!
URL:https://exploresouthorangecounty.com/event-calendar/memorial-day-weekend-strawberry-u-pick-south-coast-farms-%f0%9f%8d%93%e2%9c%a8/2025-05-23/
LOCATION:South Coast Farms\, 33201 Ortega Hwy\, San Juan Capistrano\, 92675\, United States
CATEGORIES:Community,Recreation
ATTACH;FMTTYPE=image/png:https://exploresouthorangecounty.com/wp-content/uploads/2025/05/Event-Calendar-Theme-Image-93.png
END:VEVENT
END:VCALENDAR